BEGIN:VCALENDAR
VERSION:2.0
PRODID:-//DesignaKnit Norge - ECPv6.15.20//NONSGML v1.0//EN
CALSCALE:GREGORIAN
METHOD:PUBLISH
X-WR-CALNAME:DesignaKnit Norge
X-ORIGINAL-URL:https://www.designaknit.no
X-WR-CALDESC:Arrangement for DesignaKnit Norge
REFRESH-INTERVAL;VALUE=DURATION:PT1H
X-Robots-Tag:noindex
X-PUBLISHED-TTL:PT1H
BEGIN:VTIMEZONE
TZID:UTC
BEGIN:STANDARD
TZOFFSETFROM:+0000
TZOFFSETTO:+0000
TZNAME:UTC
DTSTART:20250101T000000
END:STANDARD
END:VTIMEZONE
BEGIN:VEVENT
DTSTART;TZID=UTC:20260604T160000
DTEND;TZID=UTC:20260607T130000
DTSTAMP:20260420T133749
CREATED:20251214T223414Z
LAST-MODIFIED:20260104T204043Z
UID:3810-1780588800-1780837200@www.designaknit.no
SUMMARY:Nordisk Camp Maskinstrikk
DESCRIPTION:Nordiske deltakere inviteres til felles arrangement i 2026. Det blir 4 parallelle kurs å velge mellom\, og flere opplevelser underveis i arrangementet.\nDesignaKnit- kurset heter denne gangen «Design og strikk ditt eget plagg med DesignaKnit». DesignaKnit- programmet blir også en del av de andre kursene\, det er valgfritt å bruke det.\nVi håper på et sterkt nettverk for maskinstrikkere med forskjellige erfaringer og kunnskap\, men lik interesse for strikkede tekstiler\nCamp Maskinstrikk er for alle som ønsker å lære mer og komme litt videre med sin maskinstrikking og sitt designarbeid.
URL:https://www.designaknit.no/event/nordisk-camp-maskinstrikk/
LOCATION:Nordiska Folkhögkolan i Kungälv\, Olof Palmes väg 1\, Kungälv\, SE 442 31\, Sweden
CATEGORIES:Camp Maskinstrikk
ATTACH;FMTTYPE=image/jpeg:https://www.designaknit.no/wp-content/uploads/2025/12/Nordisk-Camp.jpg
END:VEVENT
BEGIN:VEVENT
DTSTART;TZID=UTC:20260706T150000
DTEND;TZID=UTC:20260712T130000
DTSTAMP:20260420T133749
CREATED:20251213T143825Z
LAST-MODIFIED:20260104T203948Z
UID:3861-1783350000-1783861200@www.designaknit.no
SUMMARY:Sommerkurs: Lag egne plagg på strikkemaskin med DesignaKnit
DESCRIPTION:Vi jobber fra idé til ferdig produkt med strikkemaskin og strikkedesignprogrammet DesignaKnit. Målet er at du skal kunne designe egne plagg etter egne mål\, og videre strikke det på strikkemaskin. Du kan bruke alle typer strikkemaskiner sammen med DesignaKnit.\nInnhold: \nIntro\, maskemønster- tegning og prøvelappstrikking\nMåltaking\, snittdesign og strikking\nMontering og kantestrikk\n\nVi bruker prøvelapp og egne mål for å oppnå rette proporsjoner på ferdig strikket produkt.\nDeltakerne blir godt nok kjent med mulighetene i DesignaKnit til å designe produktene slik de vil ha dem.\nDeltakerne kan strikke plaggdeler med trygg rettledning fra DesignaKnit.\n\nLærer: Hege S. Søberg\nE-post: hege@designaknit.no\nMålgruppe for kurset: \nKurset passer for deg som ønsker å utforske mulighetene med DesignaKnit og strikkemaskin\, enten du strikker med hullkort\, manuelt eller elektronisk\nForkunnskaper: \nKurset krever grunnleggende kjennskap til din egen strikkemaskin. Du bør kunne legge opp \, flytte masker\, felle av og strikke glattstrikk. Du bør gjøre deg grunnleggende kjent med modulene i DesignaKnit.\nLitteratur: \nKurshefte blir delt ut på kurset.\nKursmateriell: \nDu må ha tilgang til DesignaKnit og egen strikkemaskin(elektronisk\, holkort eller manuell). Sjekk at din maskin fungerer optimalt. Gi beskjed til kurshaldar Hege\, dersom du trenger å bytte sperreskinne.
URL:https://www.designaknit.no/event/lag-egne-plagg-pa-strikkemaskin-med-designaknit/
LOCATION:Raulandsakademiet\, Akademiet 2\, Rauland\, 3864\, Norway
CATEGORIES:Foredrag/kurs
ATTACH;FMTTYPE=image/jpeg:https://www.designaknit.no/wp-content/uploads/2026/01/Sommerkurs.jpg
ORGANIZER;CN="Raulandsakademiet":MAILTO:post@raulandsakademiet.no
END:VEVENT
END:VCALENDAR